BEGIN:VCALENDAR
VERSION:2.0
PRODID:-//luxeureka - ECPv6.15.20//NONSGML v1.0//EN
CALSCALE:GREGORIAN
METHOD:PUBLISH
X-ORIGINAL-URL:https://luxeureka.lu
X-WR-CALDESC:Events for luxeureka
REFRESH-INTERVAL;VALUE=DURATION:PT1H
X-Robots-Tag:noindex
X-PUBLISHED-TTL:PT1H
BEGIN:VTIMEZONE
TZID:Europe/Luxembourg
BEGIN:DAYLIGHT
TZOFFSETFROM:+0100
TZOFFSETTO:+0200
TZNAME:CEST
DTSTART:20240331T010000
END:DAYLIGHT
BEGIN:STANDARD
TZOFFSETFROM:+0200
TZOFFSETTO:+0100
TZNAME:CET
DTSTART:20241027T010000
END:STANDARD
BEGIN:DAYLIGHT
TZOFFSETFROM:+0100
TZOFFSETTO:+0200
TZNAME:CEST
DTSTART:20250330T010000
END:DAYLIGHT
BEGIN:STANDARD
TZOFFSETFROM:+0200
TZOFFSETTO:+0100
TZNAME:CET
DTSTART:20251026T010000
END:STANDARD
BEGIN:DAYLIGHT
TZOFFSETFROM:+0100
TZOFFSETTO:+0200
TZNAME:CEST
DTSTART:20260329T010000
END:DAYLIGHT
BEGIN:STANDARD
TZOFFSETFROM:+0200
TZOFFSETTO:+0100
TZNAME:CET
DTSTART:20261025T010000
END:STANDARD
END:VTIMEZONE
BEGIN:VEVENT
DTSTART;TZID=Europe/Luxembourg:20251010T190000
DTEND;TZID=Europe/Luxembourg:20251010T210000
DTSTAMP:20260419T110854
CREATED:20250921T114459Z
LAST-MODIFIED:20250921T154434Z
UID:10000004-1760122800-1760130000@luxeureka.lu
SUMMARY:Career: Navigating the Unpredictable.
DESCRIPTION:Анонс встречи с Еленой Резановой \nПриглашаем вас на встречу-общение с Еленой Резановой — автором бестселлера «Никогда-нибудь»\, экспертом по карьерным стратегиям и изменениям в жизни. \nЕлена поделится своим опытом консультирования и расскажет о том\, что происходит с людьми в состоянии перехода\, когда они меняют работу\, страну или начинают новый этап своей жизни. \nПоговорим о типичных трудностях этого периода\, о внутренних и внешних ресурсах\, а также о том\, как пройти через перемены с большей уверенностью. \nПочитать про спикера
URL:https://luxeureka.lu/event/career-navigating-unpredictable/
LOCATION:Independent Cafe\, 6 Bd Franklin Delano Roosevel\, Luxembourg\, 2450\, Luxembourg
CATEGORIES:Career HUB
ATTACH;FMTTYPE=image/avif:https://luxeureka.lu/wp-content/uploads/2025/09/elena_rezanova.avif
END:VEVENT
BEGIN:VEVENT
DTSTART;TZID=Europe/Luxembourg:20251026T130000
DTEND;TZID=Europe/Luxembourg:20251026T170000
DTSTAMP:20260419T110854
CREATED:20251002T095011Z
LAST-MODIFIED:20251020T205321Z
UID:10000006-1761483600-1761498000@luxeureka.lu
SUMMARY:Is Your Next Teammate an AI? Shaping the Future of Code and the Open-Source Catalyst
DESCRIPTION:  \nThe world of software development is at an inflection point. Luxeuruka and GDG Saarbrücken are joining forces to host a high-impact open discussion on the profound effects of Agentic AI on how we build software. \nAre AI agents about to rewrite the rules of development? We’ll be tackling the most pressing questions facing our industry today: \n\nVibe-Coding vs. Guidelines: As AI accelerates code generation\, do we need brand-new standards for quality and maintenance?\nThe Junior Developer’s Role: What new opportunities and challenges emerge for those just starting their coding journey?\nAI and Open Source: How does this powerful new technology relate to and challenge the core tenets of the Open Source movement?\n\nContribute to the conversation with renowned speaker Oleg Greshnev and other leading voices in the tech community. \n(The exact venue address will be announced later) \nSecure your spot and join the discussion!
URL:https://luxeureka.lu/event/is-your-next-teammate-an-ai-shaping-the-future-of-code-and-the-open-source-catalyst/
LOCATION:Saarbrücken\, Saarbrücken\, Germany
CATEGORIES:AI HUB,Discutable talks
ATTACH;FMTTYPE=image/png:https://luxeureka.lu/wp-content/uploads/2025/10/ai-human-coding.png
END:VEVENT
BEGIN:VEVENT
DTSTART;TZID=Europe/Luxembourg:20251030T190000
DTEND;TZID=Europe/Luxembourg:20251030T210000
DTSTAMP:20260419T110854
CREATED:20251011T165258Z
LAST-MODIFIED:20251023T154531Z
UID:10000007-1761850800-1761858000@luxeureka.lu
SUMMARY:Comment trouver une langue commune quand il n’y en a pas ?  Как найти общий язык\, когда его нет?
DESCRIPTION:Dans le cadre du club Discutable\, le sociolinguiste et poète Pavel Arseniev et le philosophe Michail Maiatsky discuteront du phénomène de l’exil linguistique – cet état dans lequel vivent beaucoup de ceux qui sont partis ou restés\, qui parlent\, se taisent ou cherchent de nouvelles formes de parole. \nIl sera question de la politique de l’énonciation\, des limites de la liberté d’expression et de la manière dont le lieu de vie change non seulement l’accent\, mais aussi la possibilité même d’être compris. Peut-on encore « trouver une langue commune » lorsque la langue a cessé d’être commune ? Lire plus \n\nВ рамках клуба Discutable социолингвист и поэт Павел Арсеньев и философ Михаил Маяцкий обсудят феномен языкового изгнания – состояние\, в котором живут многие\, кто покинул или остался\, кто говорит\, молчит или ищет новые формы речи. \nРазговор пойдёт о политике высказывания\, о границах свободы слова и о том\, как место проживания меняет не только акцент\, но и саму возможность быть понятым. Можно ли “найти общий язык”\, когда язык уже перестал быть общим? Читать подробнее
URL:https://luxeureka.lu/event/comment-trouver-une-langue/
LOCATION:ErwuesseBildung\, 5\, Avenue Marie-Thérèse (block G)\, Luxembourg\, L-2132\, Luxembourg
CATEGORIES:Discutable talks
ATTACH;FMTTYPE=image/jpeg:https://luxeureka.lu/wp-content/uploads/2025/10/30.10.25.jpg
END:VEVENT
END:VCALENDAR