BEGIN:VCALENDAR
VERSION:2.0
PRODID:-//luxeureka - ECPv6.15.20//NONSGML v1.0//EN
CALSCALE:GREGORIAN
METHOD:PUBLISH
X-WR-CALNAME:luxeureka
X-ORIGINAL-URL:https://luxeureka.lu
X-WR-CALDESC:Events for luxeureka
REFRESH-INTERVAL;VALUE=DURATION:PT1H
X-Robots-Tag:noindex
X-PUBLISHED-TTL:PT1H
BEGIN:VTIMEZONE
TZID:Europe/Luxembourg
BEGIN:DAYLIGHT
TZOFFSETFROM:+0100
TZOFFSETTO:+0200
TZNAME:CEST
DTSTART:20240331T010000
END:DAYLIGHT
BEGIN:STANDARD
TZOFFSETFROM:+0200
TZOFFSETTO:+0100
TZNAME:CET
DTSTART:20241027T010000
END:STANDARD
BEGIN:DAYLIGHT
TZOFFSETFROM:+0100
TZOFFSETTO:+0200
TZNAME:CEST
DTSTART:20250330T010000
END:DAYLIGHT
BEGIN:STANDARD
TZOFFSETFROM:+0200
TZOFFSETTO:+0100
TZNAME:CET
DTSTART:20251026T010000
END:STANDARD
BEGIN:DAYLIGHT
TZOFFSETFROM:+0100
TZOFFSETTO:+0200
TZNAME:CEST
DTSTART:20260329T010000
END:DAYLIGHT
BEGIN:STANDARD
TZOFFSETFROM:+0200
TZOFFSETTO:+0100
TZNAME:CET
DTSTART:20261025T010000
END:STANDARD
BEGIN:DAYLIGHT
TZOFFSETFROM:+0100
TZOFFSETTO:+0200
TZNAME:CEST
DTSTART:20270328T010000
END:DAYLIGHT
BEGIN:STANDARD
TZOFFSETFROM:+0200
TZOFFSETTO:+0100
TZNAME:CET
DTSTART:20271031T010000
END:STANDARD
END:VTIMEZONE
BEGIN:VEVENT
DTSTART;TZID=Europe/Luxembourg:20251005T190000
DTEND;TZID=Europe/Luxembourg:20251005T203000
DTSTAMP:20260420T230212
CREATED:20251013T154745Z
LAST-MODIFIED:20251018T193731Z
UID:10000009-1759690800-1759696200@luxeureka.lu
SUMMARY:Roman Martynov - Piano Recital  Концерт пианиста-виртуоза Романа Мартынова
DESCRIPTION:Join us for an inspiring evening with pianist-virtuoso Roman Martynov. His music blends passion\, sensitivity\, and dazzling technique. The evening features music by Schumann\, Scriabin\, Ravel\, and Rachmaninov. Come and share the magic of live music. \n\nПервый концерт в Люксембурге пианиста-виртуоза Романа Мартынова. Его музыка – это живые эмоции\, тонкость и блестящая техника. В программе – дапроизведения Шумана\, Скрябина\, Равеля и Рахманинова.
URL:https://luxeureka.lu/event/roman-martynov-piano-recital-%d0%ba%d0%be%d0%bd%d1%86%d0%b5%d1%80%d1%82-%d0%bf%d0%b8%d0%b0%d0%bd%d0%b8%d1%81%d1%82%d0%b0-%d0%b2%d0%b8%d1%80%d1%82%d1%83%d0%be%d0%b7%d0%b0-%d1%80%d0%be%d0%bc%d0%b0/
LOCATION:Centre Culturel Altrimenti\, 5 Av. Marie-Thérèse\, 2132 Hollerich\, Luxembourg\, 2132\, Luxembourg
CATEGORIES:Concert,Culture
ATTACH;FMTTYPE=image/png:https://luxeureka.lu/wp-content/uploads/2025/10/roman_martynov.png
END:VEVENT
BEGIN:VEVENT
DTSTART;TZID=Europe/Luxembourg:20251025T173000
DTEND;TZID=Europe/Luxembourg:20251025T190000
DTSTAMP:20260420T230212
CREATED:20250915T184045Z
LAST-MODIFIED:20250915T184045Z
UID:10000001-1761413400-1761418800@luxeureka.lu
SUMMARY:Pushkin and Money Пушкин и деньги
DESCRIPTION:Сколько стоила рюмка вина и поездка на извозчике во времена Пушкина? Сколько платили за одну строку «Евгения Онегина» – и мог ли поэт позволить себе роскошную жизнь? Этот живой и остроумный спектакль-диалог от театра THE CHAIKA открывает Пушкина с неожиданной стороны – не как бронзовый памятник\, а как человека с долгами\, страстями\, любовью к свободе и умением платить за право быть собой. Читать подробнее \n\nHow much did a glass of wine and a cab ride cost in Pushkin’s time? How much did they pay for a single line of Eugene Onegin — and could the poet afford a gentleman’s life? THE CHAIKA Theatre presents its new premiere and reveals Pushkin in a new light – not as a bronze monument\, but as a man with debts\, passions\, a love of freedom\, and the courage to pay the price for being himself. Read more
URL:https://luxeureka.lu/event/%d0%bf%d1%83%d1%88%d0%ba%d0%b8%d0%bd-%d0%b8-%d0%b4%d0%b5%d0%bd%d1%8c%d0%b3%d0%b8/
LOCATION:Forum Geesseknäppchen\, 40 Bd Pierre Dupong\, 1430 Hollerich Luxembourg\, Luxembourg\, 1430\, Luxembourg
CATEGORIES:Culture,Theatre
ATTACH;FMTTYPE=image/jpeg:https://luxeureka.lu/wp-content/uploads/2025/10/pushkin_monez-724x1024-1.jpg
END:VEVENT
BEGIN:VEVENT
DTSTART;TZID=Europe/Luxembourg:20251118T200000
DTEND;TZID=Europe/Luxembourg:20251118T213000
DTSTAMP:20260420T230212
CREATED:20251013T162550Z
LAST-MODIFIED:20251018T202037Z
UID:10000008-1763496000-1763501400@luxeureka.lu
SUMMARY:One-Schenderowitsch Show Театр одного Шендеровича
DESCRIPTION:  \nWriter and journalist Viktor Shenderovich returns to Luxembourg with his new solo program —an evening where the stage becomes a space for reflection\, irony\, and free expression.Expect selected texts\, theatrical stories\, new writings\, and open conversation — live.⚠️ Caution: possible contact with reality. \n\nПисатель и публицист Виктор Шендерович вновь в Люксембурге с новой авторской программой.Сцена становится пространством размышлений\, иронии и свободного слова.В программе — избранные тексты\, театральные истории\, новые книги и открытый разговор с залом.⚠️ Осторожно: возможен контакт с реальностью.
URL:https://luxeureka.lu/event/one-schenderowitsch-show-%d1%82%d0%b5%d0%b0%d1%82%d1%80-%d0%be%d0%b4%d0%bd%d0%be%d0%b3%d0%be-%d1%88%d0%b5%d0%bd%d0%b4%d0%b5%d1%80%d0%be%d0%b2%d0%b8%d1%87%d0%b0/
LOCATION:Carlitos Comedy Club\, 65 Rue du Fort Neipperg\, Luxembourg\, 2230\, Luxembourg
CATEGORIES:Culture
ATTACH;FMTTYPE=image/jpeg:https://luxeureka.lu/wp-content/uploads/2025/10/shender.jpg
END:VEVENT
BEGIN:VEVENT
DTSTART;TZID=Europe/Luxembourg:20260207T160000
DTEND;TZID=Europe/Luxembourg:20260207T170000
DTSTAMP:20260420T230212
CREATED:20251231T175610Z
LAST-MODIFIED:20260202T211658Z
UID:10000031-1770480000-1770483600@luxeureka.lu
SUMMARY:Спектакль Корова на льду.  Cow on the ice. Performance.
DESCRIPTION:Корова Муля совершенно не такая\, как все остальные коровы. Все чёрные с белыми пятнами\, а Муля белая с черными. \nВсе жуют сочную траву\, а Муля… мечтает стать фигуристкой! \n«Но как же так? Коровы не танцуют на льду! Коровы должны давать молоко!» — со всех сторон твердят Муле. Но почему? Кто придумал эти правила? \nЛёгкий\, смешной\, тёплый и трогательный спектакль для всей семьи! \n  \nРежиссёр: Роман Бокланов. \nАктёры: Ярослава Варенникова\, Микола Шуляр\, Илья Рябов. \nПродолжительность спектакля 1 час. \nСпектакль идет на русском языке. \n3+ \n \n  \nMulya the cow is completely different from all the other cows. All are black with white spots\, but Mulya is white with black spots. \nEveryone is munching on lush grass\, but Mulya… dreams of becoming a figure skater! \n“But how can this be? Cows don’t dance on ice! Cows must give milk!” everyone keeps telling Mulya. But why? Who came up with these rules? \nA light\, funny\, warm\, and touching performance for the whole family! \nDirector: Roman Boklanov. \nCast: Yaroslava Varennikova\, Mikola Shulyar\, Ilya Ryabov. \nDuration: 1 hour. \nThe performance is in Russian. \n3+
URL:https://luxeureka.lu/event/672/
LOCATION:Centre Culturel Altrimenti\, 5 Av. Marie-Thérèse\, 2132 Hollerich\, Luxembourg\, 2132\, Luxembourg
CATEGORIES:Culture,Theatre
ATTACH;FMTTYPE=image/jpeg:https://luxeureka.lu/wp-content/uploads/2025/12/Korova_07.02.2026-1.jpg
ORGANIZER;CN="pocket-theatre.online":MAILTO:linar@pocket-theatre.online
END:VEVENT
BEGIN:VEVENT
DTSTART;TZID=Europe/Luxembourg:20260207T190000
DTEND;TZID=Europe/Luxembourg:20260207T200000
DTSTAMP:20260420T230212
CREATED:20260202T212206Z
LAST-MODIFIED:20260203T153432Z
UID:10000035-1770490800-1770494400@luxeureka.lu
SUMMARY:Спектакль Корова на льду.  Cow on the ice. Performance.
DESCRIPTION:Корова Муля совершенно не такая\, как все остальные коровы. Все чёрные с белыми пятнами\, а Муля белая с черными. \nВсе жуют сочную траву\, а Муля… мечтает стать фигуристкой! \n«Но как же так? Коровы не танцуют на льду! Коровы должны давать молоко!» — со всех сторон твердят Муле. Но почему? Кто придумал эти правила? \nЛёгкий\, смешной\, тёплый и трогательный спектакль для всей семьи! \n  \nРежиссёр: Роман Бокланов. \nАктёры: Ярослава Варенникова\, Микола Шуляр\, Илья Рябов. \nПродолжительность спектакля 1 час. \nСпектакль идет на русском языке. \n3+ \n \n  \nMulya the cow is completely different from all the other cows. All are black with white spots\, but Mulya is white with black spots. \nEveryone is munching on lush grass\, but Mulya… dreams of becoming a figure skater! \n“But how can this be? Cows don’t dance on ice! Cows must give milk!” everyone keeps telling Mulya. But why? Who came up with these rules? \nA light\, funny\, warm\, and touching performance for the whole family! \nDirector: Roman Boklanov. \nCast: Yaroslava Varennikova\, Mikola Shulyar\, Ilya Ryabov. \nDuration: 1 hour. \nThe performance is in Russian. \n3+
URL:https://luxeureka.lu/event/672-2/
LOCATION:Centre Culturel Altrimenti\, 5 Av. Marie-Thérèse\, 2132 Hollerich\, Luxembourg\, 2132\, Luxembourg
CATEGORIES:Culture,Theatre
ATTACH;FMTTYPE=image/jpeg:https://luxeureka.lu/wp-content/uploads/2025/12/Korova_07.02.2026_bis.jpg
ORGANIZER;CN="pocket-theatre.online":MAILTO:linar@pocket-theatre.online
END:VEVENT
BEGIN:VEVENT
DTSTART;TZID=Europe/Luxembourg:20260211T183000
DTEND;TZID=Europe/Luxembourg:20260211T200000
DTSTAMP:20260420T230212
CREATED:20260121T175235Z
LAST-MODIFIED:20260202T104446Z
UID:10000034-1770834600-1770840000@luxeureka.lu
SUMMARY:Лекция-игра "Найти мужика"  Finding a Man. Interactive Lecture.
DESCRIPTION:Лекция-игра Александры Архиповой “Найти мужика”: брачные стратегии и любовные ритуалы  глазами антрополога \nВ течение ХХ века в Советском Союзе сформировалась уникальная народная традиция поиска брачного партнера\, которая частично сохранилась и сегодня. Во время лекции-игры мы обсудим\, как выглядели старые ритуалы ухаживания и чем отличались новые\, как женщины и мужчины могли проявлять свои чувства\, как они  искали себе партнера в (пост)советском мире\, какие неофициальные правила существуют\, при чем тут любовная магия.  \nЧто такое лекция-игра? Зрители сканируют QR-код\, что дает возможность анонимно отвечать на вопросы. Ответы аудитории немедленно выводятся на экран в виде диаграмм голосований\, облака тегов слов\, списка фраз. Это позволяет лектору комментировать ответы и опираться на них в дальнейшем рассказе\, а слушатели выступают как активные участники диалога.  \n  \nInteractive Lecture with Alexandra Arkhipovaю “Finding a Man”: Marriage Strategies and Love Rituals Through an Anthropologist’s Lens \nThroughout the twentieth century\, a unique popular tradition of finding a marriage partner emerged in the Soviet Union – one that has partially survived to this day. In this interactive lecture\, we will discuss what traditional courtship rituals looked like and how newer ones differed\, how women and men could express their feelings\, how people searched for partners in the (post-)Soviet world\, what informal rules governed these processes\, and why love magic played an important role in them. \nWhat is an interactive lecture? Audience members scan a QR code that allows them to respond anonymously to questions during the event. The collective responses are immediately displayed on the screen in the form of voting charts\, word clouds\, lists of phrases\, and other visual formats. This enables the speaker to comment on the answers and build the lecture around them\, while the audience becomes an active participant in a shared dialogue rather than passive listeners.
URL:https://luxeureka.lu/event/%d0%bb%d0%b5%d0%ba%d1%86%d0%b8%d1%8f-%d0%b8%d0%b3%d1%80%d0%b0-%d0%bd%d0%b0%d0%b9%d1%82%d0%b8-%d0%bc%d1%83%d0%b6%d0%b8%d0%ba%d0%b0/
LOCATION:Carlitos Comedy Club\, 65 Rue du Fort Neipperg\, Luxembourg\, 2230\, Luxembourg
CATEGORIES:Culture,Talk
ATTACH;FMTTYPE=image/jpeg:https://luxeureka.lu/wp-content/uploads/2026/01/Arkhipova_11.02.2026_new_bw.jpg
END:VEVENT
BEGIN:VEVENT
DTSTART;TZID=Europe/Luxembourg:20260321T150000
DTEND;TZID=Europe/Luxembourg:20260321T180000
DTSTAMP:20260420T230212
CREATED:20260204T160049Z
LAST-MODIFIED:20260319T130341Z
UID:10000036-1774105200-1774116000@luxeureka.lu
SUMMARY:Atelier Lëtz Dance #1 avec Lev Babych  Workshop Lëtz Dance #1 with Lev Babych
DESCRIPTION:Atelier de danse « Le plaisir qui donne envie de vivre » \nCet atelier propose une introduction à l’improvisation en danse contemporaine à travers des consignes de mouvement guidées et une exploration personnelle. Les participant·e·s seront invité·e·s à exprimer des émotions et des sensations\, à interpréter des mots par le mouvement\, et à développer leur conscience corporelle dans un espace partagé\, bienveillant et sécurisé. \nAucune expérience en danse n’est requise : l’atelier est ouvert aux non-danseur·se·s comme aux amateur·rice·s. Tout le monde est bienvenu. \nTenue : vêtements confortablesPratique : pieds nus ou en chaussettes \nMerci de vous inscrire ici. \n*** \nDance Workshop “The pleasure that makes you want to live” \nThis workshop offers an introduction to contemporary dance improvisation through guided movement tasks and personal exploration. Participants will discover how to express their feelings and emotions\, and how to interpret words through body awareness\, using creativity and expressive freedom within a shared\, safe space. \nNo previous dance experience is required. The workshop is open to non-dancers and amateurs alike — everyone is welcome. \nWhat to wear: comfortable clothingPractice: barefoot or in socks \nPlease register here.
URL:https://luxeureka.lu/event/atelier-letz-dance-1-avec-lev-babich/
LOCATION:Centre Culturel Altrimenti\, 5 Av. Marie-Thérèse\, 2132 Hollerich\, Luxembourg\, 2132\, Luxembourg
CATEGORIES:Culture,Workshop
ATTACH;FMTTYPE=image/png:https://luxeureka.lu/wp-content/uploads/2026/02/lev-afisha-21.03.26-1.png
END:VEVENT
BEGIN:VEVENT
DTSTART;TZID=Europe/Luxembourg:20260321T190000
DTEND;TZID=Europe/Luxembourg:20260321T203000
DTSTAMP:20260420T230212
CREATED:20251231T180640Z
LAST-MODIFIED:20260218T161919Z
UID:10000033-1774119600-1774125000@luxeureka.lu
SUMMARY:Mélodies sans Frontières\, Racines Communes. Concert. Melodies Beyond Borders\, Shared Roots.
DESCRIPTION:Concert thématique : Œcuménisme et Droits de l’Homme. Mélodies sans Frontières\, Racines Communes.  \nUn voyage musical et chorégraphique célébrant le dialogue interculturel\, l’unité humaine et les droits fondamentaux. À travers la musique et la danse — langages universels — ce programme explore ce qui relie les cultures au-delà des frontières nationales. \nDu klezmer yiddish (My Yiddishe Mame\, Yidl mitn Fiddle) à la chanson française (Hymne à l’amour\, Sous le ciel de Paris)\, en passant par les mélodies slaves et les échos de la mémoire européenne (Ostatnia Niedziela\, Thème de la Liste de Schindler)\, le répertoire fait apparaître les fils invisibles d’un héritage partagé. \nLa soirée s’ouvre avec une pièce de danse contemporaine interprétée par Lev Babych\, jeune danseur et réfugié d’Ukraine\, créée spécialement pour ACAT Luxembourg et dédiée à la lutte pour les droits humains. \nLe Trio Khaïes poursuit avec un programme explorant les « racines communes » de notre patrimoine musical — chansons yiddish\, ukrainiennes\, françaises et américaines — dans un esprit de khaïes\, ce « plaisir qui donne envie de vivre ». \nCette performance est un plaidoyer artistique pour la dignité humaine et un rappel que\, dans l’art comme dans la vie\, nous sommes plus forts ensemble. \nL’inscription est gratuite mais obligatoire. \nThematic Concert: Ecumenism and Human Rights. Melodies Beyond Borders\, Shared Roots. \nA musical and choreographic journey celebrating intercultural dialogue\, human unity\, and fundamental rights. Through music and dance—universal languages—the program explores what connects cultures beyond national and historical boundaries. \nFrom Yiddish klezmer (My Yiddishe Mame\, Yidl mitn Fiddle) to French chanson (Hymne à l’amour\, Sous le ciel de Paris)\, and from Slavic melodies to works shaped by Europe’s memory of war (Ostatnia Niedziela\, Theme from Schindler’s List)\, the repertoire reveals the invisible threads of a shared heritage. \nThe evening opens with a contemporary dance piece by Lev Babych\, a young dancer and refugee from Ukraine\, created especially for ACAT Luxembourg and dedicated to the ongoing struggle for human rights. \nThe Khaïes Trio then explores these “shared roots” through songs from Yiddish\, Ukrainian\, French\, and American traditions. In Yiddish\, khaïes means “the joy that gives the desire to live”—a spirit the trio seeks to convey throughout the performance. \nThis concert is an artistic plea for the recognition of dignity in every culture and a reminder that\, in art as in life\, we are stronger together. \nThe registration is free but mandatory
URL:https://luxeureka.lu/event/omelodies-sans-frontieres-racines-communes/
LOCATION:Centre Culturel Altrimenti\, 5 Av. Marie-Thérèse\, 2132 Hollerich\, Luxembourg\, 2132\, Luxembourg
CATEGORIES:Concert,Culture
ATTACH;FMTTYPE=image/png:https://luxeureka.lu/wp-content/uploads/2025/12/Poster-A3-21-March-2026-Luxembourg-colour-logo.png
END:VEVENT
BEGIN:VEVENT
DTSTART;TZID=Europe/Luxembourg:20260327T190000
DTEND;TZID=Europe/Luxembourg:20260327T210000
DTSTAMP:20260420T230212
CREATED:20260310T075848Z
LAST-MODIFIED:20260310T161301Z
UID:10000037-1774638000-1774645200@luxeureka.lu
SUMMARY:Вечер анимационных фильмов с Ириной Литманович Animated film night with Irina Litmanovich
DESCRIPTION:27 марта состоится встреча с прекрасным художником и мультипликатором ИРИНОЙ ЛИТМАНОВИЧ. \nФильмы Ирины Литманович — тихие\, остроумные и очень человечные. Они будто нарисованы не только рукой\, но и внимательным взглядом на жизнь: на маленькие абсурды повседневности\, на странности людей\, на смешное и трогательное\, которое мы обычно не замечаем.\nЛитманович — режиссёр\, художник и рассказчик одновременно. Она создаёт анимацию\, где важна каждая линия и каждая пауза. Среди её работ — ироничные и по-своему философские фильмы\, такие как “Хеломские обычаи”\, “Домашний романс” и недавний фильм “Ненаписанная пьеса. Один день из жизни одного драматурга”.\nЭто редкий случай\, когда анимация похожа на хороший рассказ — немного смешной\, немного грустный и очень точный.\nПосле показа поговорим с Ириной о её фильмах\, о том\, как рождаются такие истории\, и о том\, как вообще устроена авторская анимация. Так же можно будет приобрести авторские художественные работы. \nВсе мультфильмы на русском языке с английскими субтитрами. \nРегистрация здесь. Донаты приветствуются. \n  \nOn March 27\, we will host a meeting with the wonderful artist and animator IRINA LITMANOVICH. \nIrina Litmanovich’s films are quiet\, witty\, and deeply human. They seem to be drawn not only by hand\, but also with a careful eye for life: for the small absurd moments of everyday life\, for people’s oddities\, and for the funny and touching things we often overlook. \nLitmanovich is a director\, an artist\, and a storyteller at the same time. She creates animation where every line and every pause matters. Among her works are the ironic and gently philosophical films Khelm Customs\, Domestic Romance\, and the recent film An Unwritten Play: One Day in the Life of a Playwright. \nIt is a rare kind of animation that feels like a good short story — a little funny\, a little sad\, and very precise. \nAfter the screening\, we will talk with Irina about her films\, about how these stories come to life\, and about the art of independent animation. You will also have the opportunity to purchase some of her original artworks. \nAll films will be shown in Russian with English subtitles. \nPlease register here. You donations are welcome.
URL:https://luxeureka.lu/event/%d0%b2%d0%b5%d1%87%d0%b5%d1%80-%d0%b0%d0%bd%d0%b8%d0%bc%d0%b0%d1%86%d0%b8%d0%be%d0%bd%d0%bd%d1%8b%d1%85-%d1%84%d0%b8%d0%bb%d1%8c%d0%bc%d0%be%d0%b2-%d1%81-%d0%b8%d1%80%d0%b8%d0%bd%d0%be%d0%b9-%d0%bb/
LOCATION:ErwuesseBildung\, 5\, Avenue Marie-Thérèse (block G)\, Luxembourg\, L-2132\, Luxembourg
CATEGORIES:Culture,Film & Discussion
ATTACH;FMTTYPE=image/jpeg:https://luxeureka.lu/wp-content/uploads/2026/03/Litmanovich_27032026_eng.jpg
END:VEVENT
BEGIN:VEVENT
DTSTART;TZID=Europe/Luxembourg:20260425T150000
DTEND;TZID=Europe/Luxembourg:20260425T180000
DTSTAMP:20260420T230212
CREATED:20260401T163209Z
LAST-MODIFIED:20260413T115706Z
UID:10000041-1777129200-1777140000@luxeureka.lu
SUMMARY:Workshop Lëtz Dance #2  Мастер-класс Lëtz Dance #2
DESCRIPTION:Dance workshop with Mariam Davtyan & Narek Minassian  \nHow can we work with difficult histories – not only through words\, but through the body? \nThis workshop explores the intersections of trauma\, historical memory\, and dialogue through dance. Movement becomes a shared language: a way to connect\, reflect\, and engage with complex pasts across cultures. \nWorking together through rhythm and gesture\, participants will explore movement traditions from different backgrounds\, bring their own styles into the process\, and co-create a shared choreography. Poetry and texts will be translated into movement\, alongside live music and traditional instruments. \nWho can participate10–15 participants from diverse backgrounds: dancers\, movers\, and curious newcomers alike. No experience needed. \nThe workshop will conclude with a short performance for an invited audience. \nLanguage of the event: English. \nRegister here \n*** \nТанцевальный мастер-класс с Mariam Davtyan & Narek Minassian \nКак работать со сложным прошлым – не только через слова\, но и через тело? \nЭтот мастер-класс исследует темы травмы\, исторической памяти и диалога\, используя другой способ говорить о сложных темах – через движение. Танец становится общим языком: способом почувствовать\, осмыслить и прожить опыт\, который не всегда можно выразить словами. \nЧерез ритм и жест участники будут исследовать движения из разных культур\, привносить свои и вместе создавать общую хореографию. В процессе – работа с поэзией и текстами\, живая музыка и традиционные инструменты. \nКто может участвовать10–15 участников с разным бэкграундом – от танцоров до тех\, кто просто хочет попробовать. Опыт не требуется. \nВ конце — небольшой показ для приглашённой аудитории. \nЯзык мастер-класса: английский \nРегистрация для участия здесь
URL:https://luxeureka.lu/event/atelier-letz-dance-2/
LOCATION:ErwuesseBildung\, 5\, Avenue Marie-Thérèse (block G)\, Luxembourg\, L-2132\, Luxembourg
CATEGORIES:Culture,Workshop
ATTACH;FMTTYPE=image/jpeg:https://luxeureka.lu/wp-content/uploads/2026/04/Atelier2_2026_04_25_ENG.jpg
ORGANIZER;CN="ACAT-Luxembourg":MAILTO:contact@acat.lu
END:VEVENT
END:VCALENDAR