BEGIN:VCALENDAR
VERSION:2.0
PRODID:-//luxeureka - ECPv6.15.20//NONSGML v1.0//EN
CALSCALE:GREGORIAN
METHOD:PUBLISH
X-WR-CALNAME:luxeureka
X-ORIGINAL-URL:https://luxeureka.lu
X-WR-CALDESC:Events for luxeureka
REFRESH-INTERVAL;VALUE=DURATION:PT1H
X-Robots-Tag:noindex
X-PUBLISHED-TTL:PT1H
BEGIN:VTIMEZONE
TZID:Europe/Luxembourg
BEGIN:DAYLIGHT
TZOFFSETFROM:+0100
TZOFFSETTO:+0200
TZNAME:CEST
DTSTART:20250330T010000
END:DAYLIGHT
BEGIN:STANDARD
TZOFFSETFROM:+0200
TZOFFSETTO:+0100
TZNAME:CET
DTSTART:20251026T010000
END:STANDARD
BEGIN:DAYLIGHT
TZOFFSETFROM:+0100
TZOFFSETTO:+0200
TZNAME:CEST
DTSTART:20260329T010000
END:DAYLIGHT
BEGIN:STANDARD
TZOFFSETFROM:+0200
TZOFFSETTO:+0100
TZNAME:CET
DTSTART:20261025T010000
END:STANDARD
BEGIN:DAYLIGHT
TZOFFSETFROM:+0100
TZOFFSETTO:+0200
TZNAME:CEST
DTSTART:20270328T010000
END:DAYLIGHT
BEGIN:STANDARD
TZOFFSETFROM:+0200
TZOFFSETTO:+0100
TZNAME:CET
DTSTART:20271031T010000
END:STANDARD
END:VTIMEZONE
BEGIN:VEVENT
DTSTART;TZID=Europe/Luxembourg:20260422T180000
DTEND;TZID=Europe/Luxembourg:20260422T200000
DTSTAMP:20260424T005352
CREATED:20260310T090942Z
LAST-MODIFIED:20260413T115728Z
UID:10000039-1776880800-1776888000@luxeureka.lu
SUMMARY:Public Talk: Trauma-informed approach to historical memory and present-day tragedies.  Дискуссия: Травма-информированный подход к исторической памяти и современным трагедиям.
DESCRIPTION:Public Talk with Anna Dobrovolskaya: How societies work through violent pasts. \nIn 2026\, our world is facing multiple social\, political\, and economic challenges. A key question remains: what can be done to address them and what does it take to recover after major historical events? \nIs it helpful to understand such events as forms of collective trauma? What changes when we approach the social\, political\, and economic consequences of wars\, conflicts\, and genocides through a trauma-informed perspective? \nThis event explores whether there are meaningful examples and practices for working with historical trauma and collective tragedy\, including dialogue\, reconciliation\, peacebuilding\, peace education. \nIt will also reflect on lessons learned from denazification in Germany\, and whether such experiences can offer insights in the context of Russia’s invasion of Ukraine. \nEvent language: English \nRegister here \n*** \nДискуссия с Анной Добровольской: Как общества работают с трудным прошлым.  \nВ 2026 году мир сталкивается с множеством социальных\, политических и экономических вызовов. Остаётся ключевой вопрос: что можно сделать\, чтобы справиться с ними\, и что требуется для восстановления после крупных исторических потрясений? \nПолезно ли рассматривать такие события как формы коллективной травмы? Что меняется\, если смотреть на социальные\, политические и экономические последствия войн\, конфликтов и геноцидов через призму травма-информированного подхода? \nВ рамках этой встречи будет обсуждаться\, существуют ли содержательные примеры и практики работы с исторической травмой и коллективными трагедиями – в том числе через диалог\, примирение\, построение мира и образование. \nОтдельное внимание будет уделено опыту денацификации в Германии\, а также вопросу о том\, могут ли эти уроки быть применимы в контексте российской агрессии против Украины. \nЯзык мероприятия: английский \nРегистрация здесь
URL:https://luxeureka.lu/event/public-talk-trauma-informed-approach-to-historical-memory-and-current-tragedies/
LOCATION:ErwuesseBildung\, 5\, Avenue Marie-Thérèse (block G)\, Luxembourg\, L-2132\, Luxembourg
CATEGORIES:Public Talk,Society
ATTACH;FMTTYPE=image/jpeg:https://luxeureka.lu/wp-content/uploads/2026/04/AD_22_04_2026-ENG.jpg
END:VEVENT
END:VCALENDAR